BEGIN:VCALENDAR
VERSION:2.0
PRODID:-//Casa Museo Blasco Ibáñez - ECPv5.1.4//NONSGML v1.0//EN
CALSCALE:GREGORIAN
METHOD:PUBLISH
X-WR-CALNAME:Casa Museo Blasco Ibáñez
X-ORIGINAL-URL:http://www.casamuseoblascoibanez.es
X-WR-CALDESC:Eventos para Casa Museo Blasco Ibáñez
BEGIN:VTIMEZONE
TZID:UTC
BEGIN:STANDARD
TZOFFSETFROM:+0000
TZOFFSETTO:+0000
TZNAME:UTC
DTSTART:20240101T000000
END:STANDARD
END:VTIMEZONE
BEGIN:VEVENT
DTSTART;TZID=UTC:20240218T110000
DTEND;TZID=UTC:20240218T130000
DTSTAMP:20260422T161945
CREATED:20240214T054813Z
LAST-MODIFIED:20240214T054813Z
UID:5625-1708254000-1708261200@www.casamuseoblascoibanez.es
SUMMARY:Ruta literaria Flor de mayo
DESCRIPTION:Recorrido guiado por diversos espacios del Cabañal que permiten evocar el ambiente en que Blasco Ibáñez se inspiró para escribir su famosa novela Flor de mayo. \n  \nActividad con un aforo de veinte personas. \nDebe reservarse en el teléfono 962082586 \n
URL:http://www.casamuseoblascoibanez.es/actividad/ruta-literaria-flor-de-mayo/
CATEGORIES:VISITAS GUIADAS
ATTACH;FMTTYPE=image/jpeg:http://www.casamuseoblascoibanez.es/wp-content/uploads/2018/02/Portada-FLOR-DE-MAYO.jpg
ORGANIZER;CN="Casa%20Museo%20Blasco%20Ib%C3%A1%C3%B1ez":MAILTO:cmvbi@valencia.es
END:VEVENT
BEGIN:VEVENT
DTSTART;TZID=UTC:20240218T113000
DTEND;TZID=UTC:20240218T113000
DTSTAMP:20260422T161945
CREATED:20240214T055312Z
LAST-MODIFIED:20240214T055522Z
UID:5627-1708255800-1708255800@www.casamuseoblascoibanez.es
SUMMARY:Visita guiada
DESCRIPTION:Visita guiada per la Casa Museu Blasco Ibáñez \nLes reserves es realitzaran per telèfon\, en el 962082586\nGrup màxim de participants per visita: 25 pax \n
URL:http://www.casamuseoblascoibanez.es/actividad/visita-guiada-213/
LOCATION:CASA MUSEO BLASCO IBÁÑEZ\, Calle Isabel de Villena\, 159\, Valencia\, Valencia\, 46011\, España
CATEGORIES:VISITAS GUIADAS
ATTACH;FMTTYPE=image/jpeg:http://www.casamuseoblascoibanez.es/wp-content/uploads/2024/01/unnamed-scaled.jpg
ORGANIZER;CN="Casa%20Museo%20Blasco%20Ib%C3%A1%C3%B1ez":MAILTO:cmvbi@valencia.es
END:VEVENT
BEGIN:VEVENT
DTSTART;TZID=UTC:20240218T123000
DTEND;TZID=UTC:20240218T133000
DTSTAMP:20260422T161945
CREATED:20240124T105416Z
LAST-MODIFIED:20240214T055022Z
UID:5618-1708259400-1708263000@www.casamuseoblascoibanez.es
SUMMARY:Visita guiada
DESCRIPTION:Visita guiada per la Casa Museu Blasco Ibáñez \nLes reserves es realitzaran per telèfon\, en el 962082586\nGrup màxim de participants per visita: 25 pax \n
URL:http://www.casamuseoblascoibanez.es/actividad/visita-guiada-212/
LOCATION:CASA MUSEO BLASCO IBÁÑEZ\, Calle Isabel de Villena\, 159\, Valencia\, Valencia\, 46011\, España
CATEGORIES:VISITAS GUIADAS
ATTACH;FMTTYPE=image/jpeg:http://www.casamuseoblascoibanez.es/wp-content/uploads/2024/01/unnamed-scaled.jpg
ORGANIZER;CN="Casa%20Museo%20Blasco%20Ib%C3%A1%C3%B1ez":MAILTO:cmvbi@valencia.es
END:VEVENT
END:VCALENDAR