BEGIN:VCALENDAR
VERSION:2.0
PRODID:-//Casa Museo Blasco Ibáñez - ECPv5.1.4//NONSGML v1.0//EN
CALSCALE:GREGORIAN
METHOD:PUBLISH
X-WR-CALNAME:Casa Museo Blasco Ibáñez
X-ORIGINAL-URL:http://www.casamuseoblascoibanez.es
X-WR-CALDESC:Eventos para Casa Museo Blasco Ibáñez
BEGIN:VTIMEZONE
TZID:Europe/Helsinki
BEGIN:DAYLIGHT
TZOFFSETFROM:+0200
TZOFFSETTO:+0300
TZNAME:EEST
DTSTART:20250330T010000
END:DAYLIGHT
BEGIN:STANDARD
TZOFFSETFROM:+0300
TZOFFSETTO:+0200
TZNAME:EET
DTSTART:20251026T010000
END:STANDARD
END:VTIMEZONE
BEGIN:VEVENT
DTSTART;TZID=Europe/Helsinki:20251005T113000
DTEND;TZID=Europe/Helsinki:20251005T123000
DTSTAMP:20260419T163039
CREATED:20251003T112848Z
LAST-MODIFIED:20251003T112848Z
UID:6184-1759663800-1759667400@www.casamuseoblascoibanez.es
SUMMARY:Visita guiada
DESCRIPTION:Visita guiada por la Casa Museo Blasco Ibáñez \nAforo de la actividad 25 pax \nTeléfono de reservas: 962082586 \n
URL:http://www.casamuseoblascoibanez.es/actividad/visita-guiada-315/
LOCATION:CASA MUSEO BLASCO IBÁÑEZ\, Calle Isabel de Villena\, 159\, Valencia\, Valencia\, 46011\, España
CATEGORIES:VISITAS GUIADAS
ATTACH;FMTTYPE=image/jpeg:http://www.casamuseoblascoibanez.es/wp-content/uploads/2025/05/Imatge-invitacio.jpg
ORGANIZER;CN="Casa%20Museo%20Blasco%20Ib%C3%A1%C3%B1ez":MAILTO:cmvbi@valencia.es
END:VEVENT
BEGIN:VEVENT
DTSTART;TZID=Europe/Helsinki:20251005T123000
DTEND;TZID=Europe/Helsinki:20251005T133000
DTSTAMP:20260419T163039
CREATED:20251003T113012Z
LAST-MODIFIED:20251003T113012Z
UID:6186-1759667400-1759671000@www.casamuseoblascoibanez.es
SUMMARY:Visita guiada
DESCRIPTION:Visita guiada por la Casa Museo Blasco Ibáñez \nAforo de la actividad 25 pax \nTeléfono de reservas: 962082586 \n
URL:http://www.casamuseoblascoibanez.es/actividad/visita-guiada-316/
LOCATION:CASA MUSEO BLASCO IBÁÑEZ\, Calle Isabel de Villena\, 159\, Valencia\, Valencia\, 46011\, España
CATEGORIES:Cursos y conferencias
ATTACH;FMTTYPE=image/jpeg:http://www.casamuseoblascoibanez.es/wp-content/uploads/2025/05/Imatge-invitacio.jpg
ORGANIZER;CN="Casa%20Museo%20Blasco%20Ib%C3%A1%C3%B1ez":MAILTO:cmvbi@valencia.es
END:VEVENT
END:VCALENDAR