BEGIN:VCALENDAR
VERSION:2.0
PRODID:-//Casa Museo Blasco Ibáñez - ECPv5.1.4//NONSGML v1.0//EN
CALSCALE:GREGORIAN
METHOD:PUBLISH
X-WR-CALNAME:Casa Museo Blasco Ibáñez
X-ORIGINAL-URL:http://www.casamuseoblascoibanez.es
X-WR-CALDESC:Eventos para Casa Museo Blasco Ibáñez
BEGIN:VTIMEZONE
TZID:Europe/Helsinki
BEGIN:DAYLIGHT
TZOFFSETFROM:+0200
TZOFFSETTO:+0300
TZNAME:EEST
DTSTART:20250330T010000
END:DAYLIGHT
BEGIN:STANDARD
TZOFFSETFROM:+0300
TZOFFSETTO:+0200
TZNAME:EET
DTSTART:20251026T010000
END:STANDARD
END:VTIMEZONE
BEGIN:VEVENT
DTSTART;TZID=Europe/Helsinki:20251026T111500
DTEND;TZID=Europe/Helsinki:20251026T122500
DTSTAMP:20260419T163112
CREATED:20251003T111024Z
LAST-MODIFIED:20251003T111024Z
UID:6173-1761477300-1761481500@www.casamuseoblascoibanez.es
SUMMARY:Visita teatralizada "La voluntad de vivir"
DESCRIPTION: \n
URL:http://www.casamuseoblascoibanez.es/actividad/visita-teatralizada-la-voluntad-de-vivir-5/
LOCATION:CASA MUSEO BLASCO IBÁÑEZ\, Calle Isabel de Villena\, 159\, Valencia\, Valencia\, 46011\, España
CATEGORIES:VISITAS GUIADAS
ATTACH;FMTTYPE=image/jpeg:http://www.casamuseoblascoibanez.es/wp-content/uploads/2025/05/Elena-Ortuzar-en-chalet.jpg
ORGANIZER;CN="Casa%20Museo%20Blasco%20Ib%C3%A1%C3%B1ez":MAILTO:cmvbi@valencia.es
END:VEVENT
BEGIN:VEVENT
DTSTART;TZID=Europe/Helsinki:20251026T123000
DTEND;TZID=Europe/Helsinki:20251026T134500
DTSTAMP:20260419T163112
CREATED:20251003T111221Z
LAST-MODIFIED:20251003T111221Z
UID:6175-1761481800-1761486300@www.casamuseoblascoibanez.es
SUMMARY:Visita teatralizada "La voluntad de vivir"
DESCRIPTION: \n
URL:http://www.casamuseoblascoibanez.es/actividad/visita-teatralizada-la-voluntad-de-vivir-6/
LOCATION:CASA MUSEO BLASCO IBÁÑEZ\, Calle Isabel de Villena\, 159\, Valencia\, Valencia\, 46011\, España
CATEGORIES:VISITAS GUIADAS
ATTACH;FMTTYPE=image/jpeg:http://www.casamuseoblascoibanez.es/wp-content/uploads/2025/05/Elena-Ortuzar-en-chalet.jpg
ORGANIZER;CN="Casa%20Museo%20Blasco%20Ib%C3%A1%C3%B1ez":MAILTO:cmvbi@valencia.es
END:VEVENT
END:VCALENDAR