BEGIN:VCALENDAR
VERSION:2.0
PRODID:-//Casa Museo Blasco Ibáñez - ECPv5.1.4//NONSGML v1.0//EN
CALSCALE:GREGORIAN
METHOD:PUBLISH
X-WR-CALNAME:Casa Museo Blasco Ibáñez
X-ORIGINAL-URL:http://www.casamuseoblascoibanez.es
X-WR-CALDESC:Eventos para Casa Museo Blasco Ibáñez
BEGIN:VTIMEZONE
TZID:Europe/Helsinki
BEGIN:DAYLIGHT
TZOFFSETFROM:+0200
TZOFFSETTO:+0300
TZNAME:EEST
DTSTART:20250330T010000
END:DAYLIGHT
BEGIN:STANDARD
TZOFFSETFROM:+0300
TZOFFSETTO:+0200
TZNAME:EET
DTSTART:20251026T010000
END:STANDARD
END:VTIMEZONE
BEGIN:VEVENT
DTSTART;TZID=Europe/Helsinki:20251113T180000
DTEND;TZID=Europe/Helsinki:20251113T190000
DTSTAMP:20260419T150020
CREATED:20251027T075448Z
LAST-MODIFIED:20251027T075448Z
UID:6206-1763056800-1763060400@www.casamuseoblascoibanez.es
SUMMARY:130 aniversario Flor de mayo
DESCRIPTION:En el marco del ciclo de conferencias dedicado a conmemorar el 130 aniversario de la publicación de Flor de mayo\, Josep Vicent Boira impartirá la charla «L’itinerari de les pescateres de Flor de mayo. Geografia urbana d’una novel·la» \n  \n \n
URL:http://www.casamuseoblascoibanez.es/actividad/130-aniversario-flor-de-mayo-2/
LOCATION:CASA MUSEO BLASCO IBÁÑEZ\, Calle Isabel de Villena\, 159\, Valencia\, Valencia\, 46011\, España
CATEGORIES:Cursos y conferencias
ATTACH;FMTTYPE=image/jpeg:http://www.casamuseoblascoibanez.es/wp-content/uploads/2025/10/Portada-FLOR-DE-MAYO.jpg
ORGANIZER;CN="Casa%20Museo%20Blasco%20Ib%C3%A1%C3%B1ez":MAILTO:cmvbi@valencia.es
END:VEVENT
END:VCALENDAR