BEGIN:VCALENDAR
VERSION:2.0
PRODID:-//Casa Museo Blasco Ibáñez - ECPv5.1.4//NONSGML v1.0//EN
CALSCALE:GREGORIAN
METHOD:PUBLISH
X-WR-CALNAME:Casa Museo Blasco Ibáñez
X-ORIGINAL-URL:http://www.casamuseoblascoibanez.es
X-WR-CALDESC:Eventos para Casa Museo Blasco Ibáñez
BEGIN:VTIMEZONE
TZID:Europe/Helsinki
BEGIN:DAYLIGHT
TZOFFSETFROM:+0200
TZOFFSETTO:+0300
TZNAME:EEST
DTSTART:20250330T010000
END:DAYLIGHT
BEGIN:STANDARD
TZOFFSETFROM:+0300
TZOFFSETTO:+0200
TZNAME:EET
DTSTART:20251026T010000
END:STANDARD
END:VTIMEZONE
BEGIN:VEVENT
DTSTART;TZID=Europe/Helsinki:20251123T110000
DTEND;TZID=Europe/Helsinki:20251123T130000
DTSTAMP:20260419T145954
CREATED:20251027T081620Z
LAST-MODIFIED:20251027T081620Z
UID:6217-1763895600-1763902800@www.casamuseoblascoibanez.es
SUMMARY:Ruta literaria Flor de mayo
DESCRIPTION:Recorrido guiado por diversos espacios del Cabañal que permiten evocar el ambiente en que Blasco Ibáñez se inspiró para escribir su famosa novela Flor de mayo. \nSalida desde Plaza de la Semana Santa Marinera \n  \nActividad con un aforo de veinticinco personas. \nDebe reservarse en el teléfono 962082586 \n
URL:http://www.casamuseoblascoibanez.es/actividad/ruta-literaria-flor-de-mayo-12/
CATEGORIES:VISITAS GUIADAS
ATTACH;FMTTYPE=image/jpeg:http://www.casamuseoblascoibanez.es/wp-content/uploads/2018/02/Portada-FLOR-DE-MAYO.jpg
ORGANIZER;CN="Casa%20Museo%20Blasco%20Ib%C3%A1%C3%B1ez":MAILTO:cmvbi@valencia.es
END:VEVENT
BEGIN:VEVENT
DTSTART;TZID=Europe/Helsinki:20251123T113000
DTEND;TZID=Europe/Helsinki:20251123T123000
DTSTAMP:20260419T145954
CREATED:20251027T083455Z
LAST-MODIFIED:20251027T083455Z
UID:6231-1763897400-1763901000@www.casamuseoblascoibanez.es
SUMMARY:Visita guiada
DESCRIPTION:Visita guiada por la Casa Museo Blasco Ibáñez \nAforo de la actividad 25 pax \nTeléfono de reservas: 962082586 \n
URL:http://www.casamuseoblascoibanez.es/actividad/visita-guiada-327/
LOCATION:CASA MUSEO BLASCO IBÁÑEZ\, Calle Isabel de Villena\, 159\, Valencia\, Valencia\, 46011\, España
CATEGORIES:VISITAS GUIADAS
ATTACH;FMTTYPE=image/jpeg:http://www.casamuseoblascoibanez.es/wp-content/uploads/2025/10/40_La-Tía-Picores-amenazadora-scaled.jpeg
ORGANIZER;CN="Casa%20Museo%20Blasco%20Ib%C3%A1%C3%B1ez":MAILTO:cmvbi@valencia.es
END:VEVENT
BEGIN:VEVENT
DTSTART;TZID=Europe/Helsinki:20251123T123000
DTEND;TZID=Europe/Helsinki:20251123T133000
DTSTAMP:20260419T145954
CREATED:20251027T083656Z
LAST-MODIFIED:20251027T083656Z
UID:6233-1763901000-1763904600@www.casamuseoblascoibanez.es
SUMMARY:Visita guiada
DESCRIPTION:Visita guiada por la Casa Museo Blasco Ibáñez \nAforo de la actividad 25 pax \nTeléfono de reservas: 962082586 \n
URL:http://www.casamuseoblascoibanez.es/actividad/visita-guiada-328/
LOCATION:CASA MUSEO BLASCO IBÁÑEZ\, Calle Isabel de Villena\, 159\, Valencia\, Valencia\, 46011\, España
CATEGORIES:VISITAS GUIADAS
ATTACH;FMTTYPE=image/jpeg:http://www.casamuseoblascoibanez.es/wp-content/uploads/2025/10/40_La-Tía-Picores-amenazadora-scaled.jpeg
ORGANIZER;CN="Casa%20Museo%20Blasco%20Ib%C3%A1%C3%B1ez":MAILTO:cmvbi@valencia.es
END:VEVENT
END:VCALENDAR