BEGIN:VCALENDAR
VERSION:2.0
PRODID:-//Casa Museo Blasco Ibáñez - ECPv5.1.4//NONSGML v1.0//EN
CALSCALE:GREGORIAN
METHOD:PUBLISH
X-WR-CALNAME:Casa Museo Blasco Ibáñez
X-ORIGINAL-URL:http://www.casamuseoblascoibanez.es
X-WR-CALDESC:Eventos para Casa Museo Blasco Ibáñez
BEGIN:VTIMEZONE
TZID:Europe/Helsinki
BEGIN:DAYLIGHT
TZOFFSETFROM:+0200
TZOFFSETTO:+0300
TZNAME:EEST
DTSTART:20250330T010000
END:DAYLIGHT
BEGIN:STANDARD
TZOFFSETFROM:+0300
TZOFFSETTO:+0200
TZNAME:EET
DTSTART:20251026T010000
END:STANDARD
END:VTIMEZONE
BEGIN:VEVENT
DTSTART;TZID=Europe/Helsinki:20251223T120000
DTEND;TZID=Europe/Helsinki:20251223T133000
DTSTAMP:20260419T133124
CREATED:20251127T074733Z
LAST-MODIFIED:20251127T075311Z
UID:6259-1766491200-1766496600@www.casamuseoblascoibanez.es
SUMMARY:Un cuento para el invierno
DESCRIPTION:En la Casa Museo Blasco Ibáñez\, las palabras cobran vida entre libros\, recuerdos y ventanas al mar. En esta actividad familiar\, niños y adultos se convierten en narradores y escritores por un día. Juntos crearán una gran historia colectiva\, dando forma al Libro de Invierno\, un cuento tejido con las voces y la imaginación de todas las familias participantes. Después\, cada pareja elaborará una postal literaria con su propio mensaje\, que se incorporará a la instalación del museo “Mensajes al futuro”. \nActividad público familiar \nMáximo 25 pax \n
URL:http://www.casamuseoblascoibanez.es/actividad/un-cuento-para-el-invierno/
LOCATION:CASA MUSEO BLASCO IBÁÑEZ\, Calle Isabel de Villena\, 159\, Valencia\, Valencia\, 46011\, España
CATEGORIES:VISITAS GUIADAS
ATTACH;FMTTYPE=image/jpeg:http://www.casamuseoblascoibanez.es/wp-content/uploads/2025/11/E.-Pertegas-El-femater-El-Cuento-del-Dumenge-307-4-1-1920-1.jpeg
ORGANIZER;CN="Casa%20Museo%20Blasco%20Ib%C3%A1%C3%B1ez":MAILTO:cmvbi@valencia.es
END:VEVENT
END:VCALENDAR